Package: Cardinal Version: 3.8.3 Command: /home/biocbuild/R/R/bin/R CMD INSTALL Cardinal StartedAt: 2025-03-31 20:42:43 -0000 (Mon, 31 Mar 2025) EndedAt: 2025-03-31 20:43:17 -0000 (Mon, 31 Mar 2025) EllapsedTime: 33.0 seconds RetCode: 0 Status: OK