Package: CellMapper Version: 1.32.0 Command: /Library/Frameworks/R.framework/Resources/bin/R CMD INSTALL CellMapper StartedAt: 2025-03-31 15:07:13 -0400 (Mon, 31 Mar 2025) EndedAt: 2025-03-31 15:07:44 -0400 (Mon, 31 Mar 2025) EllapsedTime: 31.2 seconds RetCode: 0 Status: OK