Package: CellTrails Version: 1.24.0 Command: /home/biocbuild/R/R/bin/R CMD build --keep-empty-dirs --no-resave-data CellTrails StartedAt: 2025-03-31 22:13:34 -0000 (Mon, 31 Mar 2025) EndedAt: 2025-03-31 22:14:21 -0000 (Mon, 31 Mar 2025) EllapsedTime: 47.0 seconds RetCode: 0 Status: OK PackageFile: CellTrails_1.24.0.tar.gz PackageFileSize: 2.625 MiB