Package: ChIPseqR Version: 1.60.0 Command: /home/biocbuild/R/R/bin/R CMD INSTALL ChIPseqR StartedAt: 2025-03-31 20:49:51 -0000 (Mon, 31 Mar 2025) EndedAt: 2025-03-31 20:50:36 -0000 (Mon, 31 Mar 2025) EllapsedTime: 44.7 seconds RetCode: 0 Status: OK