Package: CoverageView Version: 1.44.0 Command: /Library/Frameworks/R.framework/Resources/bin/R CMD INSTALL CoverageView StartedAt: 2025-03-31 15:40:31 -0400 (Mon, 31 Mar 2025) EndedAt: 2025-03-31 15:41:33 -0400 (Mon, 31 Mar 2025) EllapsedTime: 61.6 seconds RetCode: 0 Status: OK