Package: CyTOFpower Version: 1.12.1 Command: /home/biocbuild/R/R/bin/R CMD INSTALL CyTOFpower StartedAt: 2025-03-31 21:09:56 -0000 (Mon, 31 Mar 2025) EndedAt: 2025-03-31 21:10:04 -0000 (Mon, 31 Mar 2025) EllapsedTime: 7.2 seconds RetCode: 0 Status: OK