Package: DART Version: 1.54.0 Command: /home/biocbuild/R/R/bin/R CMD INSTALL DART StartedAt: 2025-03-31 20:13:27 -0000 (Mon, 31 Mar 2025) EndedAt: 2025-03-31 20:13:49 -0000 (Mon, 31 Mar 2025) EllapsedTime: 22.3 seconds RetCode: 0 Status: OK