Package: DNAshapeR Version: 1.34.0 Command: /home/biocbuild/R/R/bin/R CMD INSTALL DNAshapeR StartedAt: 2025-03-31 20:19:24 -0000 (Mon, 31 Mar 2025) EndedAt: 2025-03-31 20:20:20 -0000 (Mon, 31 Mar 2025) EllapsedTime: 55.7 seconds RetCode: 0 Status: OK