Package: DRIMSeq Version: 1.34.0 Command: /home/biocbuild/R/R/bin/R CMD INSTALL DRIMSeq StartedAt: 2025-03-31 20:26:19 -0000 (Mon, 31 Mar 2025) EndedAt: 2025-03-31 20:26:35 -0000 (Mon, 31 Mar 2025) EllapsedTime: 16.4 seconds RetCode: 0 Status: OK