Package: DSS Version: 2.54.0 Command: /home/biocbuild/R/R/bin/R CMD INSTALL DSS StartedAt: 2025-03-31 20:34:18 -0000 (Mon, 31 Mar 2025) EndedAt: 2025-03-31 20:35:08 -0000 (Mon, 31 Mar 2025) EllapsedTime: 49.7 seconds RetCode: 0 Status: OK