Package: DaMiRseq Version: 2.18.0 Command: /Library/Frameworks/R.framework/Resources/bin/R CMD INSTALL DaMiRseq StartedAt: 2025-03-31 16:23:08 -0400 (Mon, 31 Mar 2025) EndedAt: 2025-03-31 16:25:06 -0400 (Mon, 31 Mar 2025) EllapsedTime: 117.8 seconds RetCode: 0 Status: OK