Package: DeProViR Version: 1.2.0 Command: /Library/Frameworks/R.framework/Resources/bin/R CMD INSTALL DeProViR StartedAt: 2025-03-31 17:36:11 -0400 (Mon, 31 Mar 2025) EndedAt: 2025-03-31 17:36:25 -0400 (Mon, 31 Mar 2025) EllapsedTime: 14.1 seconds RetCode: 0 Status: OK