Package: DeProViR Version: 1.2.0 Command: /Library/Frameworks/R.framework/Resources/bin/R CMD INSTALL DeProViR StartedAt: 2025-03-31 16:20:36 -0400 (Mon, 31 Mar 2025) EndedAt: 2025-03-31 16:21:03 -0400 (Mon, 31 Mar 2025) EllapsedTime: 26.6 seconds RetCode: 0 Status: OK