Package: DeepPINCS Version: 1.14.0 Command: /Library/Frameworks/R.framework/Resources/bin/R CMD INSTALL DeepPINCS StartedAt: 2025-03-31 18:18:21 -0400 (Mon, 31 Mar 2025) EndedAt: 2025-03-31 18:18:41 -0400 (Mon, 31 Mar 2025) EllapsedTime: 19.7 seconds RetCode: 0 Status: OK