Package: DelayedMatrixStats Version: 1.28.1 Command: F:\biocbuild\bbs-3.20-bioc\R\bin\R.exe CMD INSTALL DelayedMatrixStats StartedAt: 2025-03-31 16:22:11 -0400 (Mon, 31 Mar 2025) EndedAt: 2025-03-31 16:26:10 -0400 (Mon, 31 Mar 2025) EllapsedTime: 238.2 seconds RetCode: 0 Status: OK