Package: DelayedMatrixStats Version: 1.28.1 Command: /home/biocbuild/R/R/bin/R CMD build --keep-empty-dirs --no-resave-data DelayedMatrixStats StartedAt: 2025-03-31 22:59:37 -0000 (Mon, 31 Mar 2025) EndedAt: 2025-03-31 23:05:52 -0000 (Mon, 31 Mar 2025) EllapsedTime: 375.1 seconds RetCode: 0 Status: OK PackageFile: DelayedMatrixStats_1.28.1.tar.gz PackageFileSize: 289 KiB