Package: DelayedRandomArray Version: 1.14.0 Command: chmod a+r DelayedRandomArray -R && F:\biocbuild\bbs-3.20-bioc\R\bin\R.exe CMD build --keep-empty-dirs --no-resave-data DelayedRandomArray StartedAt: 2025-03-31 18:24:53 -0400 (Mon, 31 Mar 2025) EndedAt: 2025-03-31 18:25:57 -0400 (Mon, 31 Mar 2025) EllapsedTime: 64.1 seconds RetCode: 0 Status: OK PackageFile: DelayedRandomArray_1.14.0.tar.gz PackageFileSize: 318.6 KiB