Package: DiffBind Version: 3.16.0 Command: /home/biocbuild/bbs-3.20-bioc/R/bin/R CMD build --keep-empty-dirs --no-resave-data --md5 DiffBind StartedAt: 2025-03-31 17:01:57 -0400 (Mon, 31 Mar 2025) EndedAt: 2025-03-31 17:05:22 -0400 (Mon, 31 Mar 2025) EllapsedTime: 205.2 seconds RetCode: 0 Status: OK PackageFile: DiffBind_3.16.0.tar.gz PackageFileSize: 6.49 MiB