Package: EBImage Version: 4.48.0 Command: /home/biocbuild/bbs-3.20-bioc/R/bin/R CMD INSTALL EBImage StartedAt: 2025-03-31 15:34:36 -0400 (Mon, 31 Mar 2025) EndedAt: 2025-03-31 15:34:49 -0400 (Mon, 31 Mar 2025) EllapsedTime: 12.6 seconds RetCode: 0 Status: OK