Package: EnrichmentBrowser Version: 2.36.0 Command: /Library/Frameworks/R.framework/Resources/bin/R CMD INSTALL EnrichmentBrowser StartedAt: 2025-03-31 15:34:18 -0400 (Mon, 31 Mar 2025) EndedAt: 2025-03-31 15:35:28 -0400 (Mon, 31 Mar 2025) EllapsedTime: 69.7 seconds RetCode: 0 Status: OK