Package: ExploreModelMatrix Version: 1.18.0 Command: /Library/Frameworks/R.framework/Resources/bin/R CMD INSTALL ExploreModelMatrix StartedAt: 2025-03-31 16:38:38 -0400 (Mon, 31 Mar 2025) EndedAt: 2025-03-31 16:38:47 -0400 (Mon, 31 Mar 2025) EllapsedTime: 9.5 seconds RetCode: 0 Status: OK