Package: ExpressionAtlas Version: 1.34.0 Command: /Library/Frameworks/R.framework/Resources/bin/R CMD build --keep-empty-dirs --no-resave-data ExpressionAtlas StartedAt: 2025-03-31 18:40:47 -0400 (Mon, 31 Mar 2025) EndedAt: 2025-03-31 18:41:54 -0400 (Mon, 31 Mar 2025) EllapsedTime: 66.9 seconds RetCode: 0 Status: OK PackageFile: ExpressionAtlas_1.34.0.tar.gz PackageFileSize: 319 KiB