Package: FGNet Version: 3.40.0 Command: /Library/Frameworks/R.framework/Resources/bin/R CMD build --keep-empty-dirs --no-resave-data FGNet StartedAt: 2025-03-31 23:29:58 -0400 (Mon, 31 Mar 2025) EndedAt: 2025-03-31 23:30:20 -0400 (Mon, 31 Mar 2025) EllapsedTime: 21.7 seconds RetCode: 0 Status: OK PackageFile: FGNet_3.40.0.tar.gz PackageFileSize: 2.72 MiB