Package: FastqCleaner Version: 1.24.0 Command: /Library/Frameworks/R.framework/Resources/bin/R CMD build --keep-empty-dirs --no-resave-data FastqCleaner StartedAt: 2025-03-31 18:41:24 -0400 (Mon, 31 Mar 2025) EndedAt: 2025-03-31 18:43:59 -0400 (Mon, 31 Mar 2025) EllapsedTime: 154.7 seconds RetCode: 0 Status: OK PackageFile: FastqCleaner_1.24.0.tar.gz PackageFileSize: 4.356 MiB