Package: FuseSOM Version: 1.8.0 Command: /home/biocbuild/R/R/bin/R CMD build --keep-empty-dirs --no-resave-data FuseSOM StartedAt: 2025-03-31 23:35:13 -0000 (Mon, 31 Mar 2025) EndedAt: 2025-03-31 23:36:37 -0000 (Mon, 31 Mar 2025) EllapsedTime: 84.1 seconds RetCode: 0 Status: OK PackageFile: FuseSOM_1.8.0.tar.gz PackageFileSize: 2.043 MiB