Package: GARS Version: 1.26.0 Command: /Library/Frameworks/R.framework/Resources/bin/R CMD INSTALL GARS StartedAt: 2025-03-31 17:40:32 -0400 (Mon, 31 Mar 2025) EndedAt: 2025-03-31 17:41:35 -0400 (Mon, 31 Mar 2025) EllapsedTime: 62.4 seconds RetCode: 0 Status: OK