Package: GDSArray Version: 1.26.0 Command: /home/biocbuild/bbs-3.20-bioc/R/bin/R CMD build --keep-empty-dirs --no-resave-data --md5 GDSArray StartedAt: 2025-03-31 17:20:17 -0400 (Mon, 31 Mar 2025) EndedAt: 2025-03-31 17:20:42 -0400 (Mon, 31 Mar 2025) EllapsedTime: 25.0 seconds RetCode: 0 Status: OK PackageFile: GDSArray_1.26.0.tar.gz PackageFileSize: 306.1 KiB