Package: GLAD Version: 2.70.0 Command: /Library/Frameworks/R.framework/Resources/bin/R CMD INSTALL GLAD StartedAt: 2025-03-31 15:06:55 -0400 (Mon, 31 Mar 2025) EndedAt: 2025-03-31 15:07:16 -0400 (Mon, 31 Mar 2025) EllapsedTime: 21.0 seconds RetCode: 0 Status: OK