Package: GSEABase Version: 1.68.0 Command: /Library/Frameworks/R.framework/Resources/bin/R CMD INSTALL GSEABase StartedAt: 2025-03-31 15:46:10 -0400 (Mon, 31 Mar 2025) EndedAt: 2025-03-31 15:46:30 -0400 (Mon, 31 Mar 2025) EllapsedTime: 20.1 seconds RetCode: 0 Status: OK