Package: GSEAlm Version: 1.66.0 Command: /Library/Frameworks/R.framework/Resources/bin/R CMD INSTALL GSEAlm StartedAt: 2025-03-31 15:04:57 -0400 (Mon, 31 Mar 2025) EndedAt: 2025-03-31 15:05:00 -0400 (Mon, 31 Mar 2025) EllapsedTime: 3.5 seconds RetCode: 0 Status: OK