Package: GeneOverlap Version: 1.42.0 Command: /home/biocbuild/bbs-3.20-bioc/R/bin/R CMD build --keep-empty-dirs --no-resave-data --md5 GeneOverlap StartedAt: 2025-03-31 17:21:25 -0400 (Mon, 31 Mar 2025) EndedAt: 2025-03-31 17:21:33 -0400 (Mon, 31 Mar 2025) EllapsedTime: 8.0 seconds RetCode: 0 Status: OK PackageFile: GeneOverlap_1.42.0.tar.gz PackageFileSize: 360.8 KiB