Package: GeneRegionScan Version: 1.62.0 Command: /Library/Frameworks/R.framework/Resources/bin/R CMD INSTALL GeneRegionScan StartedAt: 2025-03-31 15:28:31 -0400 (Mon, 31 Mar 2025) EndedAt: 2025-03-31 15:28:46 -0400 (Mon, 31 Mar 2025) EllapsedTime: 15.1 seconds RetCode: 0 Status: OK