Package: GeneStructureTools Version: 1.26.0 Command: /Library/Frameworks/R.framework/Resources/bin/R CMD INSTALL GeneStructureTools StartedAt: 2025-03-31 16:53:29 -0400 (Mon, 31 Mar 2025) EndedAt: 2025-03-31 16:54:29 -0400 (Mon, 31 Mar 2025) EllapsedTime: 60.2 seconds RetCode: 0 Status: OK