Package: GenomicDataCommons Version: 1.30.1 Command: /home/biocbuild/R/R/bin/R CMD build --keep-empty-dirs --no-resave-data GenomicDataCommons StartedAt: 2025-03-31 23:41:22 -0000 (Mon, 31 Mar 2025) EndedAt: 2025-03-31 23:43:14 -0000 (Mon, 31 Mar 2025) EllapsedTime: 112.1 seconds RetCode: 0 Status: OK PackageFile: GenomicDataCommons_1.30.1.tar.gz PackageFileSize: 2.482 MiB