Package: GenomicSuperSignature Version: 1.14.0 Command: /Library/Frameworks/R.framework/Resources/bin/R CMD INSTALL GenomicSuperSignature StartedAt: 2025-03-31 18:06:48 -0400 (Mon, 31 Mar 2025) EndedAt: 2025-03-31 18:07:21 -0400 (Mon, 31 Mar 2025) EllapsedTime: 33.1 seconds RetCode: 0 Status: OK