Package: GeoDiff Version: 1.12.0 Command: rm -rf GeoDiff.buildbin-libdir && mkdir GeoDiff.buildbin-libdir && /Users/biocbuild/BBS/utils/build-universal.sh GeoDiff_1.12.0.tar.gz /Library/Frameworks/R.framework/Resources/bin/R GeoDiff.buildbin-libdir StartedAt: 2025-04-02 14:32:02 -0400 (Wed, 02 Apr 2025) EndedAt: 2025-04-02 14:33:32 -0400 (Wed, 02 Apr 2025) EllapsedTime: 90.7 seconds RetCode: 0 Status: OK PackageFile: GeoDiff_1.12.0.tgz PackageFileSize: 4.798 MiB