Package: GeoDiff Version: 1.12.0 Command: /Library/Frameworks/R.framework/Resources/bin/R CMD INSTALL GeoDiff StartedAt: 2025-03-31 16:40:56 -0400 (Mon, 31 Mar 2025) EndedAt: 2025-03-31 16:43:17 -0400 (Mon, 31 Mar 2025) EllapsedTime: 141.4 seconds RetCode: 0 Status: OK