Package: GeoTcgaData Version: 2.6.0 Command: /Library/Frameworks/R.framework/Resources/bin/R CMD build --keep-empty-dirs --no-resave-data GeoTcgaData StartedAt: 2025-04-01 00:10:15 -0400 (Tue, 01 Apr 2025) EndedAt: 2025-04-01 00:11:39 -0400 (Tue, 01 Apr 2025) EllapsedTime: 84.6 seconds RetCode: 0 Status: OK PackageFile: GeoTcgaData_2.6.0.tar.gz PackageFileSize: 3.318 MiB