Package: GeomxTools Version: 3.10.0 Command: /Library/Frameworks/R.framework/Resources/bin/R CMD build --keep-empty-dirs --no-resave-data GeomxTools StartedAt: 2025-03-31 18:58:43 -0400 (Mon, 31 Mar 2025) EndedAt: 2025-03-31 19:14:25 -0400 (Mon, 31 Mar 2025) EllapsedTime: 942.0 seconds RetCode: 0 Status: OK PackageFile: GeomxTools_3.10.0.tar.gz PackageFileSize: 16.97 MiB