Package: GeomxTools Version: 3.10.0 Command: /home/biocbuild/bbs-3.20-bioc/R/bin/R CMD build --keep-empty-dirs --no-resave-data --md5 GeomxTools StartedAt: 2025-03-31 17:24:31 -0400 (Mon, 31 Mar 2025) EndedAt: 2025-03-31 17:30:01 -0400 (Mon, 31 Mar 2025) EllapsedTime: 330.3 seconds RetCode: 0 Status: OK PackageFile: GeomxTools_3.10.0.tar.gz PackageFileSize: 15.59 MiB