Package: GraphAlignment Version: 1.70.0 Command: /Library/Frameworks/R.framework/Resources/bin/R CMD build --keep-empty-dirs --no-resave-data GraphAlignment StartedAt: 2025-03-31 19:07:49 -0400 (Mon, 31 Mar 2025) EndedAt: 2025-03-31 19:08:10 -0400 (Mon, 31 Mar 2025) EllapsedTime: 21.2 seconds RetCode: 0 Status: OK PackageFile: GraphAlignment_1.70.0.tar.gz PackageFileSize: 591.5 KiB