Package: HDF5Array Version: 1.34.0 Command: /Library/Frameworks/R.framework/Resources/bin/R CMD INSTALL HDF5Array StartedAt: 2025-03-31 15:12:25 -0400 (Mon, 31 Mar 2025) EndedAt: 2025-03-31 15:13:25 -0400 (Mon, 31 Mar 2025) EllapsedTime: 59.6 seconds RetCode: 0 Status: OK