Package: HDF5Array Version: 1.34.0 Command: /home/biocbuild/R/R/bin/R CMD INSTALL HDF5Array StartedAt: 2025-03-31 20:18:50 -0000 (Mon, 31 Mar 2025) EndedAt: 2025-03-31 20:19:24 -0000 (Mon, 31 Mar 2025) EllapsedTime: 34.5 seconds RetCode: 0 Status: OK