Package: HiCBricks Version: 1.24.0 Command: /Library/Frameworks/R.framework/Resources/bin/R CMD INSTALL HiCBricks StartedAt: 2025-03-31 16:22:55 -0400 (Mon, 31 Mar 2025) EndedAt: 2025-03-31 16:23:13 -0400 (Mon, 31 Mar 2025) EllapsedTime: 18.0 seconds RetCode: 0 Status: OK