Package: HiCDCPlus Version: 1.14.0 Command: /Library/Frameworks/R.framework/Resources/bin/R CMD build --keep-empty-dirs --no-resave-data HiCDCPlus StartedAt: 2025-03-31 19:20:26 -0400 (Mon, 31 Mar 2025) EndedAt: 2025-03-31 19:25:08 -0400 (Mon, 31 Mar 2025) EllapsedTime: 282.3 seconds RetCode: 0 Status: OK PackageFile: HiCDCPlus_1.14.0.tar.gz PackageFileSize: 1.189 MiB