Package: HiCDCPlus Version: 1.14.0 Command: /home/biocbuild/bbs-3.20-bioc/R/bin/R CMD build --keep-empty-dirs --no-resave-data --md5 HiCDCPlus StartedAt: 2025-03-31 17:36:30 -0400 (Mon, 31 Mar 2025) EndedAt: 2025-03-31 17:38:17 -0400 (Mon, 31 Mar 2025) EllapsedTime: 107.1 seconds RetCode: 0 Status: OK PackageFile: HiCDCPlus_1.14.0.tar.gz PackageFileSize: 1.191 MiB