Package: HiContacts Version: 1.8.0 Command: /home/biocbuild/bbs-3.20-bioc/R/bin/R CMD INSTALL HiContacts StartedAt: 2025-03-31 15:25:50 -0400 (Mon, 31 Mar 2025) EndedAt: 2025-03-31 15:26:16 -0400 (Mon, 31 Mar 2025) EllapsedTime: 26.7 seconds RetCode: 0 Status: OK