Package: HiLDA Version: 1.20.0 Command: /Library/Frameworks/R.framework/Resources/bin/R CMD build --keep-empty-dirs --no-resave-data HiLDA StartedAt: 2025-04-01 01:15:51 -0400 (Tue, 01 Apr 2025) EndedAt: 2025-04-01 01:19:39 -0400 (Tue, 01 Apr 2025) EllapsedTime: 227.5 seconds RetCode: 0 Status: OK PackageFile: HiLDA_1.20.0.tar.gz PackageFileSize: 2.46 MiB