Package: IgGeneUsage Version: 1.20.0 Command: /home/biocbuild/R/R/bin/R CMD INSTALL IgGeneUsage StartedAt: 2025-03-31 20:22:31 -0000 (Mon, 31 Mar 2025) EndedAt: 2025-03-31 20:37:16 -0000 (Mon, 31 Mar 2025) EllapsedTime: 884.4 seconds RetCode: 0 Status: OK