Package: InTAD Version: 1.26.0 Command: /Library/Frameworks/R.framework/Resources/bin/R CMD INSTALL InTAD StartedAt: 2025-03-31 18:06:07 -0400 (Mon, 31 Mar 2025) EndedAt: 2025-03-31 18:06:48 -0400 (Mon, 31 Mar 2025) EllapsedTime: 41.3 seconds RetCode: 0 Status: OK